BEGIN:VCALENDAR
VERSION:2.0
PRODID:icalendar-ruby
CALSCALE:GREGORIAN
BEGIN:VEVENT
DTSTAMP:20260426T023951Z
UID:875d8549-8014-41cd-9f21-bf0c9e7f09ca
DTSTART;TZID=Pacific/Auckland:20260427T120000
DTEND;TZID=Pacific/Auckland:20260427T123000
DESCRIPTION:Property ID# 606713
SUMMARY:Openhome for 11 Moreton Green
END:VEVENT
END:VCALENDAR
