BEGIN:VCALENDAR
VERSION:2.0
PRODID:icalendar-ruby
CALSCALE:GREGORIAN
BEGIN:VEVENT
DTSTAMP:20260426T023807Z
UID:ce711963-8e07-4883-ad56-d491c9e8d74a
DTSTART;VALUE=DATE:20260506
DESCRIPTION:Property ID# 606713\, Locatoin: 3 Deans Avenue\, Riccarton\, Ch
 ristchurch\, Time: 4:00PM
SUMMARY:Auction for 11 Moreton Green
END:VEVENT
END:VCALENDAR
