BEGIN:VCALENDAR
VERSION:2.0
PRODID:icalendar-ruby
CALSCALE:GREGORIAN
BEGIN:VEVENT
DTSTAMP:20260426T024241Z
UID:1f10c707-9877-4046-aad3-445c89e8a05a
DTSTART;VALUE=DATE:20260422
DESCRIPTION:Property ID# 606228\, Locatoin: 3 Deans Avenue\, Riccarton\, Ch
 ristchurch 8011\, Time: 4:00PM
SUMMARY:Auction for 49 Lyndon Street
END:VEVENT
END:VCALENDAR
