BEGIN:VCALENDAR
VERSION:2.0
PRODID:icalendar-ruby
CALSCALE:GREGORIAN
BEGIN:VEVENT
DTSTAMP:20260425T181012Z
UID:33fa11a2-b902-4465-8922-ed8d4ca2af6b
DTSTART;VALUE=DATE:20260324
DESCRIPTION:Property ID# 605108\, Time: 4:00PM
SUMMARY:Auction for 84 Baynons Road
END:VEVENT
END:VCALENDAR
