BEGIN:VCALENDAR
VERSION:2.0
PRODID:icalendar-ruby
CALSCALE:GREGORIAN
BEGIN:VEVENT
DTSTAMP:20260425T175616Z
UID:6e5b2d7b-4c8b-49db-9cfc-8b590c2f05f7
DTSTART;VALUE=DATE:20260331
DESCRIPTION:Property ID# 604669\, Time: 4:00PM
SUMMARY:Auction for 25 Medway Street
END:VEVENT
END:VCALENDAR
