BEGIN:VCALENDAR
VERSION:2.0
PRODID:icalendar-ruby
CALSCALE:GREGORIAN
BEGIN:VEVENT
DTSTAMP:20260422T090602Z
UID:ac08c5fa-9ba4-4ed1-88f5-fa879ca50a09
DTSTART;VALUE=DATE:20260318
DESCRIPTION:Property ID# 604262\, Time: 2:00PM
SUMMARY:Auction for 1 Kokopu Street
END:VEVENT
END:VCALENDAR
