BEGIN:VCALENDAR
VERSION:2.0
PRODID:icalendar-ruby
CALSCALE:GREGORIAN
BEGIN:VEVENT
DTSTAMP:20260423T085702Z
UID:88a044ed-ad29-4d28-aba9-469ea0426349
DTSTART;VALUE=DATE:20260210
DESCRIPTION:Property ID# 602493\, Time: 2:00PM
SUMMARY:Auction for 
END:VEVENT
END:VCALENDAR
