BEGIN:VCALENDAR
VERSION:2.0
PRODID:icalendar-ruby
CALSCALE:GREGORIAN
BEGIN:VEVENT
DTSTAMP:20260420T162702Z
UID:0b160cc2-6be4-43fb-acd6-7f755b0ef802
DTSTART;VALUE=DATE:20260212
DESCRIPTION:Property ID# 602304\, Locatoin: Grenadier House\, 98 Moorhouse 
 Avenue (unless sold prior)\, Time: 11:00AM
SUMMARY:Auction for 
END:VEVENT
END:VCALENDAR
