BEGIN:VCALENDAR
VERSION:2.0
PRODID:icalendar-ruby
CALSCALE:GREGORIAN
BEGIN:VEVENT
DTSTAMP:20260420T234207Z
UID:6fe1ca89-08be-41bc-a1d6-5e55d2ad4b4e
DTSTART;VALUE=DATE:20260205
DESCRIPTION:Property ID# 602267\, Locatoin: Grenadier House\, 98 Moorhouse 
 Avenue (unless sold prior)\, Time: 11:00AM
SUMMARY:Auction for 
END:VEVENT
END:VCALENDAR
