BEGIN:VCALENDAR
VERSION:2.0
PRODID:icalendar-ruby
CALSCALE:GREGORIAN
BEGIN:VEVENT
DTSTAMP:20260425T155215Z
UID:f155aa20-8002-43b9-94b7-a5cf355e8f77
DTSTART;VALUE=DATE:20260128
DESCRIPTION:Property ID# 601990\, Time: 12:00PM
SUMMARY:Auction for 27 Kaitorete Drive
END:VEVENT
END:VCALENDAR
