BEGIN:VCALENDAR
VERSION:2.0
PRODID:icalendar-ruby
CALSCALE:GREGORIAN
BEGIN:VEVENT
DTSTAMP:20260424T083801Z
UID:a6a091f1-a6ae-43b1-b298-b9724cbcc498
DTSTART;VALUE=DATE:20251120
DESCRIPTION:Property ID# 599448\, Locatoin: Ray White Rangiora\, Level 1\, 
 188 High Street\, Rangiora\, Time: 4:00PM
SUMMARY:Auction for 
END:VEVENT
END:VCALENDAR
