BEGIN:VCALENDAR
VERSION:2.0
PRODID:icalendar-ruby
CALSCALE:GREGORIAN
BEGIN:VEVENT
DTSTAMP:20260419T140105Z
UID:d66ba1e9-78a0-4e3e-912f-18ef80af7a18
DTSTART;VALUE=DATE:20251105
DESCRIPTION:Property ID# 598230\, Locatoin: Holmwood Auction Rooms: 397 Ila
 m Road\, Time: 10:00AM
SUMMARY:Auction for 
END:VEVENT
END:VCALENDAR
