BEGIN:VCALENDAR
VERSION:2.0
PRODID:icalendar-ruby
CALSCALE:GREGORIAN
BEGIN:VEVENT
DTSTAMP:20260425T180828Z
UID:1c8eb17f-d537-4b8d-b004-fd229e21add5
DTSTART;VALUE=DATE:20251021
DESCRIPTION:Property ID# 598226\, Time: 4:00PM
SUMMARY:Auction for 
END:VEVENT
END:VCALENDAR
