BEGIN:VCALENDAR
VERSION:2.0
PRODID:icalendar-ruby
CALSCALE:GREGORIAN
BEGIN:VEVENT
DTSTAMP:20260425T145336Z
UID:22cac853-08ce-4fc0-96a1-7b1471ecdec7
DTSTART;VALUE=DATE:20250521
DESCRIPTION:Property ID# 592010\, Locatoin: On site\, Time: 12:00PM
SUMMARY:Auction for 
END:VEVENT
END:VCALENDAR
