BEGIN:VCALENDAR
VERSION:2.0
PRODID:icalendar-ruby
CALSCALE:GREGORIAN
BEGIN:VEVENT
DTSTAMP:20260425T155118Z
UID:cd778e2f-2e4c-4bcd-b15c-9d05dd9eb8b6
DTSTART;VALUE=DATE:20240917
DESCRIPTION:Property ID# 580313\, Time: 12:00PM
SUMMARY:Auction for 
END:VEVENT
END:VCALENDAR
