BEGIN:VCALENDAR
VERSION:2.0
PRODID:icalendar-ruby
CALSCALE:GREGORIAN
BEGIN:VEVENT
DTSTAMP:20260425T155210Z
UID:9ebb36f4-fe7a-4167-bd9e-4ad15f77f8b4
DTSTART;VALUE=DATE:20240430
DESCRIPTION:Property ID# 574228\, Time: 12:00PM
SUMMARY:Auction for 
END:VEVENT
END:VCALENDAR
