BEGIN:VCALENDAR
VERSION:2.0
PRODID:icalendar-ruby
CALSCALE:GREGORIAN
BEGIN:VEVENT
DTSTAMP:20260425T155621Z
UID:11889309-5677-4df3-bc49-6c2cdd141ff2
DTSTART;VALUE=DATE:20240509
DESCRIPTION:Property ID# 572893\, Locatoin: Russley Golf Course\, 428 Memor
 ial Avenue\, Burnside\, Time: 1:00PM
SUMMARY:Auction for 
END:VEVENT
END:VCALENDAR
