BEGIN:VCALENDAR
VERSION:2.0
PRODID:icalendar-ruby
CALSCALE:GREGORIAN
BEGIN:VEVENT
DTSTAMP:20260422T090600Z
UID:c663c2e0-b6b8-47ca-afc7-51a1fb28a3b6
DTSTART;VALUE=DATE:20240201
DESCRIPTION:Property ID# 567647\, Locatoin: Ray White\, Level 1\, Conway Bu
 ilding\, 188 High Street\, Rangiora (unless sold prior)\, Time: 4:00PM
SUMMARY:Auction for 
END:VEVENT
END:VCALENDAR
