BEGIN:VCALENDAR
VERSION:2.0
PRODID:icalendar-ruby
CALSCALE:GREGORIAN
BEGIN:VEVENT
DTSTAMP:20260419T222214Z
UID:a30863f4-925d-4013-8a97-a33a0a0da0b5
DTSTART;VALUE=DATE:20230706
DESCRIPTION:Property ID# 558458\, Time: 10:00AM
SUMMARY:Auction for 
END:VEVENT
END:VCALENDAR
