BEGIN:VCALENDAR
VERSION:2.0
PRODID:icalendar-ruby
CALSCALE:GREGORIAN
BEGIN:VEVENT
DTSTAMP:20260419T224709Z
UID:eff2133e-0f53-41de-b69f-1497aca2114c
DTSTART;VALUE=DATE:20230330
DESCRIPTION:Property ID# 553019\, Time: 10:00AM
SUMMARY:Auction for 
END:VEVENT
END:VCALENDAR
