BEGIN:VCALENDAR
VERSION:2.0
PRODID:icalendar-ruby
CALSCALE:GREGORIAN
BEGIN:VEVENT
DTSTAMP:20260419T222117Z
UID:638a69e0-30e4-4d24-8dc3-ccd08400494f
DTSTART;VALUE=DATE:20230309
DESCRIPTION:Property ID# 551696\, Time: 10:00AM
SUMMARY:Auction for 
END:VEVENT
END:VCALENDAR
