BEGIN:VCALENDAR
VERSION:2.0
PRODID:icalendar-ruby
CALSCALE:GREGORIAN
BEGIN:VEVENT
DTSTAMP:20260419T224112Z
UID:6eb0e4af-5515-4f3f-9de3-6179ddc92a21
DTSTART;VALUE=DATE:20230223
DESCRIPTION:Property ID# 550588\, Time: 10:00AM
SUMMARY:Auction for 
END:VEVENT
END:VCALENDAR
