BEGIN:VCALENDAR
VERSION:2.0
PRODID:icalendar-ruby
CALSCALE:GREGORIAN
BEGIN:VEVENT
DTSTAMP:20260419T224419Z
UID:a56ddbe9-b071-42fd-ba90-658e773de898
DTSTART;VALUE=DATE:20221220
DESCRIPTION:Property ID# 547524\, Time: 10:00AM
SUMMARY:Auction for 
END:VEVENT
END:VCALENDAR
