BEGIN:VCALENDAR
VERSION:2.0
PRODID:icalendar-ruby
CALSCALE:GREGORIAN
BEGIN:VEVENT
DTSTAMP:20260419T223919Z
UID:910f6208-1adf-4d94-bde6-2e1baff5d35e
DTSTART;VALUE=DATE:20221208
DESCRIPTION:Property ID# 547497\, Time: 10:00AM
SUMMARY:Auction for 
END:VEVENT
END:VCALENDAR
