BEGIN:VCALENDAR
VERSION:2.0
PRODID:icalendar-ruby
CALSCALE:GREGORIAN
BEGIN:VEVENT
DTSTAMP:20260419T224214Z
UID:52023acb-bdc8-43f6-807c-93728584d66f
DTSTART;VALUE=DATE:20220714
DESCRIPTION:Property ID# 537713\, Locatoin: Harcourts gold Papanui\, Time: 
 10:00AM
SUMMARY:Auction for 
END:VEVENT
END:VCALENDAR
