BEGIN:VCALENDAR
VERSION:2.0
PRODID:icalendar-ruby
CALSCALE:GREGORIAN
BEGIN:VEVENT
DTSTAMP:20260419T222838Z
UID:b9d3edf8-39a7-4ff8-9e11-2a0e6ebcbf6e
DTSTART;VALUE=DATE:20220617
DESCRIPTION:Property ID# 537314\, Time: 12:00PM
SUMMARY:Auction for 
END:VEVENT
END:VCALENDAR
