BEGIN:VCALENDAR
VERSION:2.0
PRODID:icalendar-ruby
CALSCALE:GREGORIAN
BEGIN:VEVENT
DTSTAMP:20260419T224414Z
UID:6eff0a47-f2bc-4567-b6c7-9352aef4f91f
DTSTART;VALUE=DATE:20220407
DESCRIPTION:Property ID# 532051\, Locatoin: 471 Papanui Road\, Unless Sold 
 Prior.\, Time: 10:00AM
SUMMARY:Auction for 
END:VEVENT
END:VCALENDAR
