BEGIN:VCALENDAR
VERSION:2.0
PRODID:icalendar-ruby
CALSCALE:GREGORIAN
BEGIN:VEVENT
DTSTAMP:20260426T005110Z
UID:c7c88cdd-dd2c-421f-a795-97007647d163
DTSTART;VALUE=DATE:20220331
DESCRIPTION:Property ID# 529777\, Time: 11:00AM
SUMMARY:Auction for 
END:VEVENT
END:VCALENDAR
