BEGIN:VCALENDAR
VERSION:2.0
PRODID:icalendar-ruby
CALSCALE:GREGORIAN
BEGIN:VEVENT
DTSTAMP:20260419T224016Z
UID:9c0d1cd0-840a-4969-862b-58b75d449a27
DTSTART;VALUE=DATE:20220317
DESCRIPTION:Property ID# 529027\, Locatoin: 471 Papanui Road\, Unless Sold 
 Prior.\, Time: 10:00AM
SUMMARY:Auction for 
END:VEVENT
END:VCALENDAR
