BEGIN:VCALENDAR
VERSION:2.0
PRODID:icalendar-ruby
CALSCALE:GREGORIAN
BEGIN:VEVENT
DTSTAMP:20260419T224414Z
UID:c3f2e073-8ff4-4bab-b134-30f9ef075be0
DTSTART;VALUE=DATE:20220303
DESCRIPTION:Property ID# 527909\, Locatoin: 471 Papanui Road\, Unless Sold 
 Prior.\, Time: 10:00AM
SUMMARY:Auction for 
END:VEVENT
END:VCALENDAR
