BEGIN:VCALENDAR
VERSION:2.0
PRODID:icalendar-ruby
CALSCALE:GREGORIAN
BEGIN:VEVENT
DTSTAMP:20260422T054339Z
UID:5b033ba1-52c0-46a0-897b-6372eb08b00d
DTSTART;VALUE=DATE:20211007
DESCRIPTION:Property ID# 516568\, Locatoin: Ray White Papanui\, Level 1\, 7
  Winston Avenue\, Papanui\, Time: 11:00AM
SUMMARY:Auction for 
END:VEVENT
END:VCALENDAR
