BEGIN:VCALENDAR
VERSION:2.0
PRODID:icalendar-ruby
CALSCALE:GREGORIAN
BEGIN:VEVENT
DTSTAMP:20260426T005228Z
UID:e5a3043f-d18c-46dc-8b8b-c58b8b463c20
DTSTART;VALUE=DATE:20210812
DESCRIPTION:Property ID# 513585\, Time: 12:00PM
SUMMARY:Auction for 
END:VEVENT
END:VCALENDAR
