BEGIN:VCALENDAR
VERSION:2.0
PRODID:icalendar-ruby
CALSCALE:GREGORIAN
BEGIN:VEVENT
DTSTAMP:20260425T014024Z
UID:3fc2e027-83f2-46d0-84c2-e3f8c7f3ca63
DTSTART;VALUE=DATE:20210225
DESCRIPTION:Property ID# 501092\, Time: 10:00AM
SUMMARY:Auction for 
END:VEVENT
END:VCALENDAR
