BEGIN:VCALENDAR
VERSION:2.0
PRODID:icalendar-ruby
CALSCALE:GREGORIAN
BEGIN:VEVENT
DTSTAMP:20260419T153826Z
UID:6b0fcfa4-989e-4276-adf5-6fd8e008e2f5
DTSTART;VALUE=DATE:20200908
DESCRIPTION:Property ID# 487917\, Time: 3:00PM
SUMMARY:Auction for 
END:VEVENT
END:VCALENDAR
